View In:
ArcGIS JavaScript
ArcGIS Online Map Viewer
ArcGIS Earth
ArcGIS Pro
Service Description: Dragon Basemap
Map Name: Layers
Legend
All Layers and Tables
Layers:
Description:
Service Item Id: 8a3071b81d6748b6aed4d99af3c50687
Copyright Text:
Spatial Reference:
102100
(3857)
Single Fused Map Cache: true
Tile Info:
- Height: 256
- Width: 256
- DPI: 96
-
Levels of Detail: 24
-
Level ID: 1
[ Start Tile, End Tile ]
- Resolution: 78271.5169639999
- Scale: 2.95828763795777E8
-
Level ID: 2
[ Start Tile, End Tile ]
- Resolution: 39135.7584820001
- Scale: 1.47914381897889E8
-
Level ID: 3
[ Start Tile, End Tile ]
- Resolution: 19567.8792409999
- Scale: 7.3957190948944E7
-
Level ID: 4
[ Start Tile, End Tile ]
- Resolution: 9783.93962049996
- Scale: 3.6978595474472E7
-
Level ID: 5
[ Start Tile, End Tile ]
- Resolution: 4891.96981024998
- Scale: 1.8489297737236E7
- Format: JPEG
- Compression Quality: 40.0
- Origin: X: -2.0037508342787E7
Y: 2.0037508342787E7
- Spatial Reference: 102100
(3857)
Initial Extent:
XMin: -9534823.017689936
YMin: 5384971.872749166
XMax: -9516986.284198591
YMax: 5402430.624463998
Spatial Reference: 102100
(3857)
Full Extent:
XMin: -9534823.017689936
YMin: 5384971.872749166
XMax: -9516986.284198591
YMax: 5402430.624463998
Spatial Reference: 102100
(3857)
Units: esriMeters
Supported Image Format Types: PNG32,PNG24,PNG,JPG,DIB,TIFF,EMF,PS,PDF,GIF,SVG,SVGZ,BMP
Document Info:
Title: Dragon Basemap
Author:
Comments: Dragon Basemap
Subject: Dragon Basemap
Category:
Keywords:
AntialiasingMode: Best
TextAntialiasingMode: Force
Supports Dynamic Layers: false
MaxRecordCount: 1000
MaxImageHeight: 4096
MaxImageWidth: 4096
Supported Query Formats: JSON, geoJSON
Supports Query Data Elements:
Min Scale: 5.91657527591555E8
Max Scale: 564.248588
Min LOD: 0
Max LOD: 20
Supports Datum Transformation: true
Child Resources:
Info
Supported Operations:
QueryLegends
EstimateExportTilesSize
ExportTiles
Return Updates